BEGIN:VCALENDAR
VERSION:2.0
PRODID:-//hacksw/handcal//NONSGML v1.0//EN
BEGIN:VEVENT
SUMMARY:Sejour dans la vallee de la See (Manche)
UID:47d62c2b-46e3-4e7f-ba37-3b5a88e28c71
DTSTART:20260417T220000Z
DTEND:20260425T220000Z
LOCATION:Localisation  50370 brecey
CATEGORIES:Manifestation
STATUS:
DESCRIPTION:<p>Le sejour du club « Pedaler vers le passe : nos
 jeunes cyclotouristes au service du patrimoine » se deroule du
 samedi 18 avril au samedi 25 avril 2026. Il est ouvert aux jeunes du
 club ages de 10 ans a 18 ans. Cette activite combine une sortie
 sportive en plein air et une decouverte du patrimoine local. Elle
 vise a developper chez nos jeunes cyclotouristes des competences
 physiques, citoyennes et culturelles a travers la pratique du velo et
 l’observation active d’un batiment classe historique, accompagnee
 de petits travaux d’entretien ou de valorisation. Nos encadrants et
 nos jeunes cyclotouristes sejourneront dans la vallee de la See dans
 le departement de la Manche.</p>
 
 <p>Notre partenaire sur ce projet
 est l'association les ateliers de la manufacture de l'archange Michel
 a Juvigny les Vallees (50), creee en 2024 pour assurer la
 restauration des machines et remise en fonctionnement de la filature
 de laine du Petit Auney.</p>
 
 <p> </p>
URL;VALUE=URI:https://www.vtt-decouverte76.com/evenements/2026/04/18/sejour-dans-la-vallee-de-la-see-manche-2390132
END:VEVENT
END:VCALENDAR
